BEGIN:VCALENDAR
VERSION:2.0
PRODID:-//eventon.com NONSGML v1.0//EN
CALSCALE:GREGORIAN
METHOD:PUBLISH
BEGIN:VEVENT
UID:69e5e596dacaa
DTSTAMP:20260420T083638Z
DTSTART:20261116
DTEND:20261117
LOCATION:
SUMMARY:HESS Conference
DESCRIPTION:HESS Conference\nhttps://www.evisions.com/blog/events/hess-conf
 erence/
URL:https://www.evisions.com/blog/events/hess-conference/
END:VEVENT
END:VCALENDAR